BEGIN:VCALENDAR
VERSION:2.0
PRODID:-//Lislea Community - ECPv6.15.20//NONSGML v1.0//EN
CALSCALE:GREGORIAN
METHOD:PUBLISH
X-ORIGINAL-URL:https://lisleacommunity.org
X-WR-CALDESC:Events for Lislea Community
REFRESH-INTERVAL;VALUE=DURATION:PT1H
X-Robots-Tag:noindex
X-PUBLISHED-TTL:PT1H
BEGIN:VTIMEZONE
TZID:Europe/London
BEGIN:DAYLIGHT
TZOFFSETFROM:+0000
TZOFFSETTO:+0100
TZNAME:BST
DTSTART:20230326T010000
END:DAYLIGHT
BEGIN:STANDARD
TZOFFSETFROM:+0100
TZOFFSETTO:+0000
TZNAME:GMT
DTSTART:20231029T010000
END:STANDARD
BEGIN:DAYLIGHT
TZOFFSETFROM:+0000
TZOFFSETTO:+0100
TZNAME:BST
DTSTART:20240331T010000
END:DAYLIGHT
BEGIN:STANDARD
TZOFFSETFROM:+0100
TZOFFSETTO:+0000
TZNAME:GMT
DTSTART:20241027T010000
END:STANDARD
BEGIN:DAYLIGHT
TZOFFSETFROM:+0000
TZOFFSETTO:+0100
TZNAME:BST
DTSTART:20250330T010000
END:DAYLIGHT
BEGIN:STANDARD
TZOFFSETFROM:+0100
TZOFFSETTO:+0000
TZNAME:GMT
DTSTART:20251026T010000
END:STANDARD
END:VTIMEZONE
BEGIN:VEVENT
DTSTART;TZID=Europe/London:20240415T191500
DTEND;TZID=Europe/London:20240415T201500
DTSTAMP:20260422T121526
CREATED:20240328T081256Z
LAST-MODIFIED:20240328T081555Z
UID:10001061-1713208500-1713212100@lisleacommunity.org
SUMMARY:Outdoor Bootcamp
DESCRIPTION:Every Monday & Wednesday evening in the community centre car park. \nEach session can be catered to suit all fitness levels\, no two classes ever the same\, fun & engaging\, a great variety of exercises for all over 14 years olds \nCost: 4 Weeks (8 classes) £40 – Drop in classes £6 each
URL:https://lisleacommunity.org/event/outdoor-bootcamp/2024-04-15/
LOCATION:Carpark\, Lislea Community Centre\, 14 Mountain Rd\, Newry BT35 9UG\, BT35 9UG\, United Kingdom
CATEGORIES:Physical Fitness
ATTACH;FMTTYPE=image/jpeg:https://lisleacommunity.org/wp-content/uploads/2024/03/bootcamp-sept23.jpg
END:VEVENT
BEGIN:VEVENT
DTSTART;TZID=Europe/London:20240410T191500
DTEND;TZID=Europe/London:20240410T201500
DTSTAMP:20260422T121526
CREATED:20240328T081256Z
LAST-MODIFIED:20240328T081555Z
UID:10001060-1712776500-1712780100@lisleacommunity.org
SUMMARY:Outdoor Bootcamp
DESCRIPTION:Every Monday & Wednesday evening in the community centre car park. \nEach session can be catered to suit all fitness levels\, no two classes ever the same\, fun & engaging\, a great variety of exercises for all over 14 years olds \nCost: 4 Weeks (8 classes) £40 – Drop in classes £6 each
URL:https://lisleacommunity.org/event/outdoor-bootcamp/2024-04-10/
LOCATION:Carpark\, Lislea Community Centre\, 14 Mountain Rd\, Newry BT35 9UG\, BT35 9UG\, United Kingdom
CATEGORIES:Physical Fitness
ATTACH;FMTTYPE=image/jpeg:https://lisleacommunity.org/wp-content/uploads/2024/03/bootcamp-sept23.jpg
END:VEVENT
BEGIN:VEVENT
DTSTART;TZID=Europe/London:20240408T191500
DTEND;TZID=Europe/London:20240408T201500
DTSTAMP:20260422T121526
CREATED:20240328T081256Z
LAST-MODIFIED:20240328T081555Z
UID:10001059-1712603700-1712607300@lisleacommunity.org
SUMMARY:Outdoor Bootcamp
DESCRIPTION:Every Monday & Wednesday evening in the community centre car park. \nEach session can be catered to suit all fitness levels\, no two classes ever the same\, fun & engaging\, a great variety of exercises for all over 14 years olds \nCost: 4 Weeks (8 classes) £40 – Drop in classes £6 each
URL:https://lisleacommunity.org/event/outdoor-bootcamp/2024-04-08/
LOCATION:Carpark\, Lislea Community Centre\, 14 Mountain Rd\, Newry BT35 9UG\, BT35 9UG\, United Kingdom
CATEGORIES:Physical Fitness
ATTACH;FMTTYPE=image/jpeg:https://lisleacommunity.org/wp-content/uploads/2024/03/bootcamp-sept23.jpg
END:VEVENT
BEGIN:VEVENT
DTSTART;TZID=Europe/London:20240403T191500
DTEND;TZID=Europe/London:20240403T201500
DTSTAMP:20260422T121526
CREATED:20240328T081256Z
LAST-MODIFIED:20240328T081555Z
UID:10001058-1712171700-1712175300@lisleacommunity.org
SUMMARY:Outdoor Bootcamp
DESCRIPTION:Every Monday & Wednesday evening in the community centre car park. \nEach session can be catered to suit all fitness levels\, no two classes ever the same\, fun & engaging\, a great variety of exercises for all over 14 years olds \nCost: 4 Weeks (8 classes) £40 – Drop in classes £6 each
URL:https://lisleacommunity.org/event/outdoor-bootcamp/2024-04-03/
LOCATION:Carpark\, Lislea Community Centre\, 14 Mountain Rd\, Newry BT35 9UG\, BT35 9UG\, United Kingdom
CATEGORIES:Physical Fitness
ATTACH;FMTTYPE=image/jpeg:https://lisleacommunity.org/wp-content/uploads/2024/03/bootcamp-sept23.jpg
END:VEVENT
BEGIN:VEVENT
DTSTART;TZID=Europe/London:20240401T191500
DTEND;TZID=Europe/London:20240401T201500
DTSTAMP:20260422T121526
CREATED:20240328T081256Z
LAST-MODIFIED:20240328T081555Z
UID:10001057-1711998900-1712002500@lisleacommunity.org
SUMMARY:Outdoor Bootcamp
DESCRIPTION:Every Monday & Wednesday evening in the community centre car park. \nEach session can be catered to suit all fitness levels\, no two classes ever the same\, fun & engaging\, a great variety of exercises for all over 14 years olds \nCost: 4 Weeks (8 classes) £40 – Drop in classes £6 each
URL:https://lisleacommunity.org/event/outdoor-bootcamp/2024-04-01/
LOCATION:Carpark\, Lislea Community Centre\, 14 Mountain Rd\, Newry BT35 9UG\, BT35 9UG\, United Kingdom
CATEGORIES:Physical Fitness
ATTACH;FMTTYPE=image/jpeg:https://lisleacommunity.org/wp-content/uploads/2024/03/bootcamp-sept23.jpg
END:VEVENT
END:VCALENDAR