BEGIN:VCALENDAR
VERSION:2.0
PRODID:-//Lislea Community - ECPv6.15.20//NONSGML v1.0//EN
CALSCALE:GREGORIAN
METHOD:PUBLISH
X-ORIGINAL-URL:https://lisleacommunity.org
X-WR-CALDESC:Events for Lislea Community
REFRESH-INTERVAL;VALUE=DURATION:PT1H
X-Robots-Tag:noindex
X-PUBLISHED-TTL:PT1H
BEGIN:VTIMEZONE
TZID:Europe/London
BEGIN:DAYLIGHT
TZOFFSETFROM:+0000
TZOFFSETTO:+0100
TZNAME:BST
DTSTART:20230326T010000
END:DAYLIGHT
BEGIN:STANDARD
TZOFFSETFROM:+0100
TZOFFSETTO:+0000
TZNAME:GMT
DTSTART:20231029T010000
END:STANDARD
BEGIN:DAYLIGHT
TZOFFSETFROM:+0000
TZOFFSETTO:+0100
TZNAME:BST
DTSTART:20240331T010000
END:DAYLIGHT
BEGIN:STANDARD
TZOFFSETFROM:+0100
TZOFFSETTO:+0000
TZNAME:GMT
DTSTART:20241027T010000
END:STANDARD
BEGIN:DAYLIGHT
TZOFFSETFROM:+0000
TZOFFSETTO:+0100
TZNAME:BST
DTSTART:20250330T010000
END:DAYLIGHT
BEGIN:STANDARD
TZOFFSETFROM:+0100
TZOFFSETTO:+0000
TZNAME:GMT
DTSTART:20251026T010000
END:STANDARD
END:VTIMEZONE
BEGIN:VEVENT
DTSTART;TZID=Europe/London:20240404T170000
DTEND;TZID=Europe/London:20240404T193000
DTSTAMP:20260421T145801
CREATED:20240328T085528Z
LAST-MODIFIED:20240328T085528Z
UID:10002884-1712250000-1712259000@lisleacommunity.org
SUMMARY:Easter Cinema Night
DESCRIPTION:Easter movie “Zootopia” is great fun for all\, with popcorn & a drink included
URL:https://lisleacommunity.org/event/easter-cinema-night/
LOCATION:Lislea Community Centre\, 14 Mountain Rd\, Newry\, BT35 9UG\, United Kingdom
CATEGORIES:Entertainment,Kids
ATTACH;FMTTYPE=image/jpeg:https://lisleacommunity.org/wp-content/uploads/2024/03/Easter-movie-Louise24.jpg
END:VEVENT
BEGIN:VEVENT
DTSTART;TZID=Europe/London:20240404T100000
DTEND;TZID=Europe/London:20240405T140000
DTSTAMP:20260421T145801
CREATED:20240328T085323Z
LAST-MODIFIED:20240328T085323Z
UID:10002883-1712224800-1712325600@lisleacommunity.org
SUMMARY:Easter Kids Camp
DESCRIPTION:Easter fun for the kids\, with games\, art\, dance\, and much much more! \nCost: £17 / day\, £32 both days\,
URL:https://lisleacommunity.org/event/easter-kids-camp/
LOCATION:Lislea Community Centre\, 14 Mountain Rd\, Newry\, BT35 9UG\, United Kingdom
CATEGORIES:Education,Kids,Physical Fitness,Wellbeing
ATTACH;FMTTYPE=image/jpeg:https://lisleacommunity.org/wp-content/uploads/2024/03/Easter-camp-louise-24.jpg
END:VEVENT
END:VCALENDAR